BEGIN:VCALENDAR
CALSCALE:GREGORIAN
X-WR-TIMEZONE;VALUE=TEXT:GMT
PRODID:PEAK Corporation - piCal -
X-WR-CALNAME;VALUE=TEXT:
VERSION:2.0
METHOD:PUBLISH
BEGIN:VTIMEZONE
TZID:GMT
BEGIN:STANDARD
DTSTART:19390101T000000
TZOFFSETFROM:+0000
TZOFFSETTO:+0000
TZNAME:GMT
END:STANDARD
END:VTIMEZONE
BEGIN:VEVENT
DTSTART:20170923T010000Z
DTEND:20170923T060000Z
LOCATION:
TRANSP:OPAQUE
SEQUENCE:0
UID:pical060-22f9170a2b7046600b36a2cb53b0a52e
DTSTAMP:20170224T110727Z
CATEGORIES:
DESCRIPTION:
SUMMARY:シナリオ読み合わせ総会準備作業
PRIORITY:0
CLASS:PUBLIC
END:VEVENT
END:VCALENDAR
