BEGIN:VCALENDAR
CALSCALE:GREGORIAN
X-WR-TIMEZONE;VALUE=TEXT:GMT
PRODID:PEAK Corporation - piCal -
X-WR-CALNAME;VALUE=TEXT:
VERSION:2.0
METHOD:PUBLISH
BEGIN:VTIMEZONE
TZID:GMT
BEGIN:STANDARD
DTSTART:19390101T000000
TZOFFSETFROM:+0000
TZOFFSETTO:+0000
TZNAME:GMT
END:STANDARD
END:VTIMEZONE
BEGIN:VEVENT
DTSTART:20160723T010000Z
DTEND:20160723T050000Z
LOCATION:友重さん会社事務所
TRANSP:OPAQUE
SEQUENCE:1
UID:pical060-4f5146cc9fa062fe033abeb57502f04a
DTSTAMP:20160628T233457Z
CATEGORIES:
DESCRIPTION:
SUMMARY:総会案内・コミュニティ袋詰め・発送作業
PRIORITY:0
CLASS:PUBLIC
END:VEVENT
END:VCALENDAR
