BEGIN:VCALENDAR
CALSCALE:GREGORIAN
X-WR-TIMEZONE;VALUE=TEXT:GMT
PRODID:PEAK Corporation - piCal -
X-WR-CALNAME;VALUE=TEXT:
VERSION:2.0
METHOD:PUBLISH
BEGIN:VTIMEZONE
TZID:GMT
BEGIN:STANDARD
DTSTART:19390101T000000
TZOFFSETFROM:+0000
TZOFFSETTO:+0000
TZNAME:GMT
END:STANDARD
END:VTIMEZONE
BEGIN:VEVENT
DTSTART:20160429T003000Z
DTEND:20160429T053000Z
LOCATION:多摩川六郷土手
TRANSP:OPAQUE
SEQUENCE:0
UID:pical060-6b10bcbcc108166f025a00a8d87f346b
DTSTAMP:20160405T093848Z
CATEGORIES:
DESCRIPTION:
SUMMARY:長崎ハタ揚げ大会ｉｎ東京
PRIORITY:0
CLASS:PUBLIC
END:VEVENT
END:VCALENDAR
