BEGIN:VCALENDAR
CALSCALE:GREGORIAN
X-WR-TIMEZONE;VALUE=TEXT:GMT
PRODID:PEAK Corporation - piCal -
X-WR-CALNAME;VALUE=TEXT:
VERSION:2.0
METHOD:PUBLISH
BEGIN:VTIMEZONE
TZID:GMT
BEGIN:STANDARD
DTSTART:19390101T000000
TZOFFSETFROM:+0000
TZOFFSETTO:+0000
TZNAME:GMT
END:STANDARD
END:VTIMEZONE
BEGIN:VEVENT
DTSTART:20160930T150000Z
DTEND:20160930T150000Z
LOCATION:未定「
TRANSP:OPAQUE
SEQUENCE:1
UID:pical060-0a0e014a5db9f3dceb9c1e608a3d30e9
DTSTAMP:20160327T213348Z
CATEGORIES:
DESCRIPTION:
SUMMARY:総会準備作業日
PRIORITY:0
CLASS:PUBLIC
END:VEVENT
END:VCALENDAR
