BEGIN:VCALENDAR
CALSCALE:GREGORIAN
X-WR-TIMEZONE;VALUE=TEXT:GMT
PRODID:PEAK Corporation - piCal -
X-WR-CALNAME;VALUE=TEXT:
VERSION:2.0
METHOD:PUBLISH
BEGIN:VTIMEZONE
TZID:GMT
BEGIN:STANDARD
DTSTART:19390101T000000
TZOFFSETFROM:+0000
TZOFFSETTO:+0000
TZNAME:GMT
END:STANDARD
END:VTIMEZONE
BEGIN:VEVENT
DTSTART:20160907T092500Z
DTEND:20160907T103000Z
LOCATION:長崎県東京産業支援センター（四ツ谷）
TRANSP:OPAQUE
SEQUENCE:1
UID:pical060-3a69722147f5ec417743bc7025e26935
DTSTAMP:20160328T223938Z
CATEGORIES:
DESCRIPTION:＜予定議事＞\n1．総会出席人数の中間報告\n2．総会企画の進捗状況説明（最終）\n　・会場レイアウト、式次第、アトラクション、配付資料の説明\n　・抽選会用賞品及び配布用お土産の確認\n3．招待者出席状況確認\n4．その他（各幹事に当該回生移転先不明者資料を配付、第42回総会会場の検討状況報告）\n
SUMMARY:第5回幹事会
PRIORITY:0
CLASS:PUBLIC
END:VEVENT
END:VCALENDAR
