BEGIN:VCALENDAR
CALSCALE:GREGORIAN
X-WR-TIMEZONE;VALUE=TEXT:GMT
PRODID:PEAK Corporation - piCal -
X-WR-CALNAME;VALUE=TEXT:
VERSION:2.0
METHOD:PUBLISH
BEGIN:VTIMEZONE
TZID:GMT
BEGIN:STANDARD
DTSTART:19390101T000000
TZOFFSETFROM:+0000
TZOFFSETTO:+0000
TZNAME:GMT
END:STANDARD
END:VTIMEZONE
BEGIN:VEVENT
DTSTART:20160720T093000Z
DTEND:20160720T103000Z
LOCATION:長崎県東京産業支援センター（四ツ谷）
TRANSP:OPAQUE
SEQUENCE:1
UID:pical060-dbc4d209e233d1afa4d5a46bb78c3df4
DTSTAMP:20160328T223847Z
CATEGORIES:
DESCRIPTION:＜予定議事＞\n1．総会案内状等送付物一式配布（各回生分は幹事宛宅送）\n2．総会企画の進捗状況説明\n　・アトラクション内容説明、招待者の確認等\n3．第43回総会の実施方針、日程、会場の審議\n4．その他（抽選会用賞品の提供依頼等）\n
SUMMARY:第4回幹事会
PRIORITY:0
CLASS:PUBLIC
END:VEVENT
END:VCALENDAR
