BEGIN:VCALENDAR
CALSCALE:GREGORIAN
X-WR-TIMEZONE;VALUE=TEXT:GMT
PRODID:PEAK Corporation - piCal -
X-WR-CALNAME;VALUE=TEXT:
VERSION:2.0
METHOD:PUBLISH
BEGIN:VTIMEZONE
TZID:GMT
BEGIN:STANDARD
DTSTART:19390101T000000
TZOFFSETFROM:+0000
TZOFFSETTO:+0000
TZNAME:GMT
END:STANDARD
END:VTIMEZONE
BEGIN:VEVENT
DTSTART:20160525T093000Z
DTEND:20160525T103000Z
LOCATION:長崎県東京産業支援センター（四ツ谷）
TRANSP:OPAQUE
SEQUENCE:2
UID:pical060-b179411ea23b45aa0b8703f736853770
DTSTAMP:20160405T093938Z
CATEGORIES:
DESCRIPTION:＜予定議事＞\n1．総会企画案説明\n　・総会案内状（たたき台）＆式次第素案提示\n　・招待者の確認\n2．名簿修正の回収状況確認\n3．コミュニティ依頼原稿の回収\n4．その他（ピュアエイジクラブの紹介等）\n
SUMMARY:第3回幹事会
PRIORITY:0
CLASS:PUBLIC
END:VEVENT
END:VCALENDAR
