BEGIN:VCALENDAR
CALSCALE:GREGORIAN
X-WR-TIMEZONE;VALUE=TEXT:GMT
PRODID:PEAK Corporation - piCal -
X-WR-CALNAME;VALUE=TEXT:
VERSION:2.0
METHOD:PUBLISH
BEGIN:VTIMEZONE
TZID:GMT
BEGIN:STANDARD
DTSTART:19390101T000000
TZOFFSETFROM:+0000
TZOFFSETTO:+0000
TZNAME:GMT
END:STANDARD
END:VTIMEZONE
BEGIN:VEVENT
DTSTART:20160224T093000Z
DTEND:20160224T103000Z
LOCATION:長崎県東京産業支援センター（四ツ谷）
TRANSP:OPAQUE
SEQUENCE:1
UID:pical060-a95b100bf95b2ede958544119de96db8
DTSTAMP:20160328T223526Z
CATEGORIES:
DESCRIPTION:＜予定議事＞\n1．平成２７年決算案報告・承認\n2．年間活動計画案の審議\n3．平成２８年予算案審議\n4．その他（幹事名簿更新依頼、ハタ揚げ大会紹介等）\n
SUMMARY:第1回幹事会
PRIORITY:0
CLASS:PUBLIC
END:VEVENT
END:VCALENDAR
