BEGIN:VCALENDAR
CALSCALE:GREGORIAN
X-WR-TIMEZONE;VALUE=TEXT:GMT
PRODID:PEAK Corporation - piCal -
X-WR-CALNAME;VALUE=TEXT:
VERSION:2.0
METHOD:PUBLISH
BEGIN:VTIMEZONE
TZID:GMT
BEGIN:STANDARD
DTSTART:19390101T000000
TZOFFSETFROM:+0000
TZOFFSETTO:+0000
TZNAME:GMT
END:STANDARD
END:VTIMEZONE
BEGIN:VEVENT
DTSTART:20151117T000000Z
DTEND:20151117T080000Z
LOCATION:大宮ゴルフコース
TRANSP:OPAQUE
SEQUENCE:0
UID:pical060-3b048e399b4a33289d7e20d8f23e728d
DTSTAMP:20150818T230929Z
CATEGORIES:
DESCRIPTION:長崎西高在京同窓会ゴルフコンペ開催の件\n\n2015年7月吉日\n幹事　森健介・石橋國鷹\n\n猛暑の季節になりましたが、皆様方におかれまして　ますますご健勝のこととお慶び申し上げます。\nさて　秋季ゴルフコンペ開催を今年4月の開催時にご希望いただきましたとおり、\n本年11月17日大宮ゴルフコースにて開催することになりました。\n実施要領は下記どおりです。\nご参加の程よろしくお願い申し上げます。\n\n記\n期日　：　2015年11月17日\n\n場所　：　大宮ゴルフコース\n　　　　　〒362-0067　埼玉県上尾市中分6丁目40\n　　　　　電話　048-771-2377\n\nスタート　9時24分\n\n受付　：　9：00までに済ませて下さい。\n\n費用　：　?セルフ・カート・昼食代込12,380円（キャデイーつきは15,800円）\n　　　　　?会費　3,000円（表彰・パーティー）\n\n表彰　：　優勝・準優勝・BB・ベスグロ・ニアピン・ドラコン\n\n交通　：　JR高崎線桶川駅8時30分発クラブバス（コースまで７・8分）\n　　　　　タクシーの場合1000円以内\n　　　　　（JR東海道線・湘南新宿ラインが高崎線乗り入れになったので便利になりました）\n\n５組くらいを想定しております。\n申し込み期限は９／３０です。\nよろしくお願いします。\n\n以上
SUMMARY:長崎西高在京同窓会ゴルフコンペ開催
PRIORITY:0
CLASS:PUBLIC
END:VEVENT
END:VCALENDAR
