BEGIN:VCALENDAR
CALSCALE:GREGORIAN
X-WR-TIMEZONE;VALUE=TEXT:GMT
PRODID:PEAK Corporation - piCal -
X-WR-CALNAME;VALUE=TEXT:
VERSION:2.0
METHOD:PUBLISH
BEGIN:VTIMEZONE
TZID:GMT
BEGIN:STANDARD
DTSTART:19390101T000000
TZOFFSETFROM:+0000
TZOFFSETTO:+0000
TZNAME:GMT
END:STANDARD
END:VTIMEZONE
BEGIN:VEVENT
DTSTART:20151007T093000Z
DTEND:20151007T110000Z
LOCATION:
TRANSP:OPAQUE
SEQUENCE:1
UID:pical060-9070813225c212e226db8489db02d5b3
DTSTAMP:20150703T211220Z
CATEGORIES:
DESCRIPTION:
SUMMARY:第６回幹事会
PRIORITY:0
CLASS:PUBLIC
END:VEVENT
END:VCALENDAR
