BEGIN:VCALENDAR
CALSCALE:GREGORIAN
X-WR-TIMEZONE;VALUE=TEXT:GMT
PRODID:PEAK Corporation - piCal -
X-WR-CALNAME;VALUE=TEXT:
VERSION:2.0
METHOD:PUBLISH
BEGIN:VTIMEZONE
TZID:GMT
BEGIN:STANDARD
DTSTART:19390101T000000
TZOFFSETFROM:+0000
TZOFFSETTO:+0000
TZNAME:GMT
END:STANDARD
END:VTIMEZONE
BEGIN:VEVENT
DTSTART:20151204T100000Z
DTEND:20151204T120000Z
LOCATION:日時　場所　未定
TRANSP:OPAQUE
SEQUENCE:0
UID:pical060-7eda7e7b522e68af4b665cbfbac28df6
DTSTAMP:20150307T123624Z
CATEGORIES:
DESCRIPTION:暫定決算報告\n親睦会
SUMMARY:第７回幹事会
PRIORITY:0
CLASS:PUBLIC
END:VEVENT
END:VCALENDAR
