BEGIN:VCALENDAR
CALSCALE:GREGORIAN
X-WR-TIMEZONE;VALUE=TEXT:GMT
PRODID:PEAK Corporation - piCal -
X-WR-CALNAME;VALUE=TEXT:
VERSION:2.0
METHOD:PUBLISH
BEGIN:VTIMEZONE
TZID:GMT
BEGIN:STANDARD
DTSTART:19390101T000000
TZOFFSETFROM:+0000
TZOFFSETTO:+0000
TZNAME:GMT
END:STANDARD
END:VTIMEZONE
BEGIN:VEVENT
DTSTART:20151128T040000Z
DTEND:20151128T080000Z
LOCATION:日時　場所　未定
TRANSP:OPAQUE
SEQUENCE:0
UID:pical060-085811c6a718169604c67784816bb6d4
DTSTAMP:20150307T123538Z
CATEGORIES:
DESCRIPTION:
SUMMARY:就活セミナー
PRIORITY:0
CLASS:PUBLIC
END:VEVENT
END:VCALENDAR
