BEGIN:VCALENDAR
CALSCALE:GREGORIAN
X-WR-TIMEZONE;VALUE=TEXT:GMT
PRODID:PEAK Corporation - piCal -
X-WR-CALNAME;VALUE=TEXT:
VERSION:2.0
METHOD:PUBLISH
BEGIN:VTIMEZONE
TZID:GMT
BEGIN:STANDARD
DTSTART:19390101T000000
TZOFFSETFROM:+0000
TZOFFSETTO:+0000
TZNAME:GMT
END:STANDARD
END:VTIMEZONE
BEGIN:VEVENT
DTSTART:20151017T040000Z
DTEND:20151017T070000Z
LOCATION:日時　場所　未定
TRANSP:OPAQUE
SEQUENCE:0
UID:pical060-957f91eabf1b7466fe0903d1cc90deaf
DTSTAMP:20150307T123435Z
CATEGORIES:
DESCRIPTION:
SUMMARY:胸章＆横断幕準備、賞品確認、総会シナリオ最終確認
PRIORITY:0
CLASS:PUBLIC
END:VEVENT
END:VCALENDAR
