BEGIN:VCALENDAR
CALSCALE:GREGORIAN
X-WR-TIMEZONE;VALUE=TEXT:GMT
PRODID:PEAK Corporation - piCal -
X-WR-CALNAME;VALUE=TEXT:
VERSION:2.0
METHOD:PUBLISH
BEGIN:VTIMEZONE
TZID:GMT
BEGIN:STANDARD
DTSTART:19390101T000000
TZOFFSETFROM:+0000
TZOFFSETTO:+0000
TZNAME:GMT
END:STANDARD
END:VTIMEZONE
BEGIN:VEVENT
DTSTART:20151010T040000Z
DTEND:20151010T070000Z
LOCATION:日時　場所　未定
TRANSP:OPAQUE
SEQUENCE:0
UID:pical060-d70916cbcfce5b1deb9f51c2aae2534a
DTSTAMP:20150307T123402Z
CATEGORIES:
DESCRIPTION:
SUMMARY:総会シナリオ読み合わせ
PRIORITY:0
CLASS:PUBLIC
END:VEVENT
END:VCALENDAR
