BEGIN:VCALENDAR
CALSCALE:GREGORIAN
X-WR-TIMEZONE;VALUE=TEXT:GMT
PRODID:PEAK Corporation - piCal -
X-WR-CALNAME;VALUE=TEXT:
VERSION:2.0
METHOD:PUBLISH
BEGIN:VTIMEZONE
TZID:GMT
BEGIN:STANDARD
DTSTART:19390101T000000
TZOFFSETFROM:+0000
TZOFFSETTO:+0000
TZNAME:GMT
END:STANDARD
END:VTIMEZONE
BEGIN:VEVENT
DTSTART:20150902T093000Z
DTEND:20150902T120000Z
LOCATION:
TRANSP:OPAQUE
SEQUENCE:2
UID:pical060-408d9363fa60afd9921a36106decccb9
DTSTAMP:20150901T221204Z
CATEGORIES:
DESCRIPTION:1．出席予定人数の最終報告\n2．総会式次第資料、会場配布資料等提示\n3．年会費払込状況の確認\n4．その他\n （43回総会会場進捗報告、賞品提供状況、執行部交代他）\n（懇親予定）
SUMMARY:【9/16(水）に変更しました。　7/5森】第５回幹事会　
PRIORITY:0
CLASS:PUBLIC
END:VEVENT
END:VCALENDAR
