BEGIN:VCALENDAR
CALSCALE:GREGORIAN
X-WR-TIMEZONE;VALUE=TEXT:GMT
PRODID:PEAK Corporation - piCal -
X-WR-CALNAME;VALUE=TEXT:
VERSION:2.0
METHOD:PUBLISH
BEGIN:VTIMEZONE
TZID:GMT
BEGIN:STANDARD
DTSTART:19390101T000000
TZOFFSETFROM:+0000
TZOFFSETTO:+0000
TZNAME:GMT
END:STANDARD
END:VTIMEZONE
BEGIN:VEVENT
DTSTART;VALUE=DATE:20151010
DTEND;VALUE=DATE:20151011
LOCATION:
TRANSP:OPAQUE
SEQUENCE:1
UID:pical060-3f1c8e6737b4806da0db50ae8a262ebc
DTSTAMP:20150904T212322Z
CATEGORIES:
DESCRIPTION:ただし、出欠確認は引き続き、総会開催ぎりぎりまで継続。
SUMMARY:総会出欠確認はがきの回収締め切り
PRIORITY:0
CLASS:PUBLIC
END:VEVENT
END:VCALENDAR
