BEGIN:VCALENDAR
CALSCALE:GREGORIAN
X-WR-TIMEZONE;VALUE=TEXT:GMT
PRODID:PEAK Corporation - piCal -
X-WR-CALNAME;VALUE=TEXT:
VERSION:2.0
METHOD:PUBLISH
BEGIN:VTIMEZONE
TZID:GMT
BEGIN:STANDARD
DTSTART:19390101T000000
TZOFFSETFROM:+0000
TZOFFSETTO:+0000
TZNAME:GMT
END:STANDARD
END:VTIMEZONE
BEGIN:VEVENT
DTSTART:20150722T093000Z
DTEND:20150722T120000Z
LOCATION:
TRANSP:OPAQUE
SEQUENCE:0
UID:pical060-54dccd3184334d35349f9eb2ce976f32
DTSTAMP:20150307T122824Z
CATEGORIES:
DESCRIPTION:1．総会案内状等送付物一式配布（各回生分は幹事宛宅送）\n2．総会企画の進捗状況説明\n　・アトラクション内容説明、招待者の確認等\n3．第42回総会の実施方針、日程、会場の審議\n4．その他（抽選会用賞品の提供依頼等）\n（懇親予定） 
SUMMARY:第４回幹事会
PRIORITY:0
CLASS:PUBLIC
END:VEVENT
END:VCALENDAR
