BEGIN:VCALENDAR
CALSCALE:GREGORIAN
X-WR-TIMEZONE;VALUE=TEXT:GMT
PRODID:PEAK Corporation - piCal -
X-WR-CALNAME;VALUE=TEXT:
VERSION:2.0
METHOD:PUBLISH
BEGIN:VTIMEZONE
TZID:GMT
BEGIN:STANDARD
DTSTART:19390101T000000
TZOFFSETFROM:+0000
TZOFFSETTO:+0000
TZNAME:GMT
END:STANDARD
END:VTIMEZONE
BEGIN:VEVENT
DTSTART:20150603T093000Z
DTEND:20150603T110000Z
LOCATION:
TRANSP:OPAQUE
SEQUENCE:0
UID:pical060-b0caec83b6e5afa52771b409ab0d4546
DTSTAMP:20150307T122539Z
CATEGORIES:
DESCRIPTION:1．総会企画案説明\n　・総会案内状（たたき台）＆式次第素案提示\n　・招待者の確認\n2．名簿修正の回収状況確認\n3．コミュニティ依頼原稿の回収\n4．その他（ピュアエイジクラブの紹介等）
SUMMARY:第３回幹事会
PRIORITY:0
CLASS:PUBLIC
END:VEVENT
END:VCALENDAR
