BEGIN:VCALENDAR
CALSCALE:GREGORIAN
X-WR-TIMEZONE;VALUE=TEXT:GMT
PRODID:PEAK Corporation - piCal -
X-WR-CALNAME;VALUE=TEXT:
VERSION:2.0
METHOD:PUBLISH
BEGIN:VTIMEZONE
TZID:GMT
BEGIN:STANDARD
DTSTART:19390101T000000
TZOFFSETFROM:+0000
TZOFFSETTO:+0000
TZNAME:GMT
END:STANDARD
END:VTIMEZONE
BEGIN:VEVENT
DTSTART:20150225T093000Z
DTEND:20150225T110000Z
LOCATION:
TRANSP:OPAQUE
SEQUENCE:0
UID:pical060-31483b86d5746e4f72a7ab293b06eceb
DTSTAMP:20150307T122151Z
CATEGORIES:
DESCRIPTION:1．平成２６年決算案報告・承認\n2．年間活動計画案の審議（総会実施方針、総会日程＆会場、幹事会日程等の決定）\n3．平成２７年予算案審議\n4．各回名簿修正の依頼\n5．その他（幹事名簿更新依頼、ハタ揚げ大会紹介等）
SUMMARY:第１回幹事会
PRIORITY:0
CLASS:PUBLIC
END:VEVENT
END:VCALENDAR
