BEGIN:VCALENDAR
CALSCALE:GREGORIAN
X-WR-TIMEZONE;VALUE=TEXT:GMT
PRODID:PEAK Corporation - piCal -
X-WR-CALNAME;VALUE=TEXT:
VERSION:2.0
METHOD:PUBLISH
BEGIN:VTIMEZONE
TZID:GMT
BEGIN:STANDARD
DTSTART:19390101T000000
TZOFFSETFROM:+0000
TZOFFSETTO:+0000
TZNAME:GMT
END:STANDARD
END:VTIMEZONE
BEGIN:VEVENT
DTSTART;VALUE=DATE:20150429
DTEND;VALUE=DATE:20150430
LOCATION:多摩川六郷土手河川敷
TRANSP:OPAQUE
SEQUENCE:2
UID:pical060-317407f21df83b6c97b6956360d6a9e7
DTSTAMP:20150303T224103Z
CATEGORIES:
DESCRIPTION:詳細は追って掲載します。
SUMMARY:2015長崎ハタ揚げ大会
PRIORITY:0
CLASS:PUBLIC
END:VEVENT
END:VCALENDAR
