BEGIN:VCALENDAR
CALSCALE:GREGORIAN
X-WR-TIMEZONE;VALUE=TEXT:GMT
PRODID:PEAK Corporation - piCal -
X-WR-CALNAME;VALUE=TEXT:
VERSION:2.0
METHOD:PUBLISH
BEGIN:VTIMEZONE
TZID:GMT
BEGIN:STANDARD
DTSTART:19390101T000000
TZOFFSETFROM:+0000
TZOFFSETTO:+0000
TZNAME:GMT
END:STANDARD
END:VTIMEZONE
BEGIN:VEVENT
DTSTART:20151031T050000Z
DTEND:20151031T070000Z
LOCATION:九段下にあるホテルグランドパレス
TRANSP:OPAQUE
SEQUENCE:0
UID:pical060-2a39260ee971f257dd0729f3a8c184c3
DTSTAMP:20141218T210616Z
CATEGORIES:
DESCRIPTION:
SUMMARY:長崎西高在京同窓会総会兼懇親会
PRIORITY:0
CLASS:PUBLIC
END:VEVENT
END:VCALENDAR
