BEGIN:VCALENDAR
CALSCALE:GREGORIAN
X-WR-TIMEZONE;VALUE=TEXT:GMT
PRODID:PEAK Corporation - piCal -
X-WR-CALNAME;VALUE=TEXT:
VERSION:2.0
METHOD:PUBLISH
BEGIN:VTIMEZONE
TZID:GMT
BEGIN:STANDARD
DTSTART:19390101T000000
TZOFFSETFROM:+0000
TZOFFSETTO:+0000
TZNAME:GMT
END:STANDARD
END:VTIMEZONE
BEGIN:VEVENT
DTSTART:20141122T040000Z
DTEND:20141122T070000Z
LOCATION:四谷　県人クラブ内　１F会議室
TRANSP:OPAQUE
SEQUENCE:1
UID:pical060-5143406fc6b16aa07f6bfaabfc7de329
DTSTAMP:20141006T084626Z
CATEGORIES:
DESCRIPTION:
SUMMARY:就活セミナー（11/22）
PRIORITY:0
CLASS:PUBLIC
END:VEVENT
END:VCALENDAR
