BEGIN:VCALENDAR
CALSCALE:GREGORIAN
X-WR-TIMEZONE;VALUE=TEXT:GMT
PRODID:PEAK Corporation - piCal -
X-WR-CALNAME;VALUE=TEXT:
VERSION:2.0
METHOD:PUBLISH
BEGIN:VTIMEZONE
TZID:GMT
BEGIN:STANDARD
DTSTART:19390101T000000
TZOFFSETFROM:+0000
TZOFFSETTO:+0000
TZNAME:GMT
END:STANDARD
END:VTIMEZONE
BEGIN:VEVENT
DTSTART:20141212T100000Z
DTEND:20141212T120000Z
LOCATION:NEC芝倶楽部
TRANSP:OPAQUE
SEQUENCE:1
UID:pical060-ebff1fad0219205bec4de42d2e181b09
DTSTAMP:20141117T163107Z
CATEGORIES:
DESCRIPTION:暫定決算報告、\n親睦会\n\n昨年は、\nJR 田町駅 三田口から徒歩 3 分. 都営地下鉄三田線 三田駅下車 A7・A8 出口から徒歩2分. NEC芝倶楽部 〒108-0014 東京都港区芝5ー21ー7　
SUMMARY:第７回幹事会、懇親会
PRIORITY:0
CLASS:PUBLIC
END:VEVENT
END:VCALENDAR
