BEGIN:VCALENDAR
CALSCALE:GREGORIAN
X-WR-TIMEZONE;VALUE=TEXT:GMT
PRODID:PEAK Corporation - piCal -
X-WR-CALNAME;VALUE=TEXT:
VERSION:2.0
METHOD:PUBLISH
BEGIN:VTIMEZONE
TZID:GMT
BEGIN:STANDARD
DTSTART:19390101T000000
TZOFFSETFROM:+0000
TZOFFSETTO:+0000
TZNAME:GMT
END:STANDARD
END:VTIMEZONE
BEGIN:VEVENT
DTSTART:20141025T040000Z
DTEND:20141025T070000Z
LOCATION:グランドアーク半蔵門 〒102-0092 東京都千代田区隼町１ー１
TRANSP:OPAQUE
SEQUENCE:0
UID:pical060-720bc0278d7cd6d2ebb7ac3c6babe47b
DTSTAMP:20140522T105312Z
CATEGORIES:
DESCRIPTION:時間は要確認！\n
SUMMARY:長崎西高在京同窓会　総会＆懇親会　開催
PRIORITY:0
CLASS:PUBLIC
END:VEVENT
END:VCALENDAR
