BEGIN:VCALENDAR
CALSCALE:GREGORIAN
X-WR-TIMEZONE;VALUE=TEXT:GMT
PRODID:PEAK Corporation - piCal -
X-WR-CALNAME;VALUE=TEXT:
VERSION:2.0
METHOD:PUBLISH
BEGIN:VTIMEZONE
TZID:GMT
BEGIN:STANDARD
DTSTART:19390101T000000
TZOFFSETFROM:+0000
TZOFFSETTO:+0000
TZNAME:GMT
END:STANDARD
END:VTIMEZONE
BEGIN:VEVENT
DTSTART:20141011T040000Z
DTEND:20141011T060000Z
LOCATION:杉並区　中野富士見町駅近く　友重さんの会社
TRANSP:OPAQUE
SEQUENCE:2
UID:pical060-c8e93bd1391afa9c335e0d2ecff0eebd
DTSTAMP:20141008T043008Z
CATEGORIES:
DESCRIPTION:作業場所：<a href="http://www.w-zaikyo.org/modules/piCal/index.php?smode=Monthly&amp;action=View&amp;event_id=0000000101&amp;caldate=2012-10-31&amp;PHPSESSID=499f62bb876866b2f6faa2e22bad4805" rel="external">http://www.w-zaikyo.org/modules/piCal/index.php?smode=Monthly&amp;action=View&amp;event_id=0000000101&amp;caldate=2012-10-31&amp;PHPSESSID=499f62bb876866b2f6faa2e22bad4805</a>
SUMMARY:胸章&横断幕準備、賞品確認、総会シナリオ最終確認
PRIORITY:0
CLASS:PUBLIC
END:VEVENT
END:VCALENDAR
