BEGIN:VCALENDAR
CALSCALE:GREGORIAN
X-WR-TIMEZONE;VALUE=TEXT:GMT
PRODID:PEAK Corporation - piCal -
X-WR-CALNAME;VALUE=TEXT:
VERSION:2.0
METHOD:PUBLISH
BEGIN:VTIMEZONE
TZID:GMT
BEGIN:STANDARD
DTSTART:19390101T000000
TZOFFSETFROM:+0000
TZOFFSETTO:+0000
TZNAME:GMT
END:STANDARD
END:VTIMEZONE
BEGIN:VEVENT
DTSTART:20141001T093000Z
DTEND:20141001T110000Z
LOCATION:四谷　県人クラブ内　１F会議室
TRANSP:OPAQUE
SEQUENCE:0
UID:pical060-634faad824e1d9b504e3543fe6c93d09
DTSTAMP:20140522T104733Z
CATEGORIES:
DESCRIPTION:1出席予定人数の最終報告\n2総会式次第資料、会場配布資料等提示\n3年会費払込状況の確認\n4その他\n(42回 総会会場進捗報告、賞品提供状況、執行部交代他)\n
SUMMARY:第６回幹事会（懇親会予定）
PRIORITY:0
CLASS:PUBLIC
END:VEVENT
END:VCALENDAR
