BEGIN:VCALENDAR
CALSCALE:GREGORIAN
X-WR-TIMEZONE;VALUE=TEXT:GMT
PRODID:PEAK Corporation - piCal -
X-WR-CALNAME;VALUE=TEXT:
VERSION:2.0
METHOD:PUBLISH
BEGIN:VTIMEZONE
TZID:GMT
BEGIN:STANDARD
DTSTART:19390101T000000
TZOFFSETFROM:+0000
TZOFFSETTO:+0000
TZNAME:GMT
END:STANDARD
END:VTIMEZONE
BEGIN:VEVENT
DTSTART:20140903T093000Z
DTEND:20140903T110000Z
LOCATION:四谷　県人クラブ内　１F会議室
TRANSP:OPAQUE
SEQUENCE:0
UID:pical060-03bbb01bb6213ef283308b61ee9aefae
DTSTAMP:20140522T104543Z
CATEGORIES:
DESCRIPTION:1総会出席人数の中間報告\n2総会企画の進捗状況説明 (最 終)\n会場レイアウト、式次第、アトラクション、配付資料の説明\n柚選会用賞品及び酉己布用お土産の確認\n3招待者 出席状況確認\n4その他 (各幹事に当該回生移転先不明者資料を配付 第42回総会会場の検.1状況報告)
SUMMARY:第５回幹事会
PRIORITY:0
CLASS:PUBLIC
END:VEVENT
END:VCALENDAR
