BEGIN:VCALENDAR
CALSCALE:GREGORIAN
X-WR-TIMEZONE;VALUE=TEXT:GMT
PRODID:PEAK Corporation - piCal -
X-WR-CALNAME;VALUE=TEXT:
VERSION:2.0
METHOD:PUBLISH
BEGIN:VTIMEZONE
TZID:GMT
BEGIN:STANDARD
DTSTART:19390101T000000
TZOFFSETFROM:+0000
TZOFFSETTO:+0000
TZNAME:GMT
END:STANDARD
END:VTIMEZONE
BEGIN:VEVENT
DTSTART:20140831T000000Z
DTEND:20140831T000500Z
LOCATION:
TRANSP:OPAQUE
SEQUENCE:0
UID:pical060-ade4b4e525bdb89c2b4f18fc7341cf02
DTSTAMP:20140522T104418Z
CATEGORIES:
DESCRIPTION:
SUMMARY:出欠葉書の回収締め切り日
PRIORITY:0
CLASS:PUBLIC
END:VEVENT
END:VCALENDAR
