BEGIN:VCALENDAR
CALSCALE:GREGORIAN
X-WR-TIMEZONE;VALUE=TEXT:GMT
PRODID:PEAK Corporation - piCal -
X-WR-CALNAME;VALUE=TEXT:
VERSION:2.0
METHOD:PUBLISH
BEGIN:VTIMEZONE
TZID:GMT
BEGIN:STANDARD
DTSTART:19390101T000000
TZOFFSETFROM:+0000
TZOFFSETTO:+0000
TZNAME:GMT
END:STANDARD
END:VTIMEZONE
BEGIN:VEVENT
DTSTART:20140719T010000Z
DTEND:20140719T060000Z
LOCATION:【未定ですが、たぶん】四谷　県人クラブ内　１F会議室
TRANSP:OPAQUE
SEQUENCE:1
UID:pical060-08c3b7294faec38ecb6067e6406e05cb
DTSTAMP:20140529T164702Z
CATEGORIES:
DESCRIPTION:集合時間等、確定情報ではありません。もりW29\n\n7/19（土）は県産業振興センタービル\n１階の広い会議室と小会議室とロビーを使って作業します。\n４階の県人クラブの会議室も使わせて頂きます。\n
SUMMARY: 総会案内 コミュニティ配送仕分け作業 曰
PRIORITY:0
CLASS:PUBLIC
END:VEVENT
END:VCALENDAR
