BEGIN:VCALENDAR
CALSCALE:GREGORIAN
X-WR-TIMEZONE;VALUE=TEXT:GMT
PRODID:PEAK Corporation - piCal -
X-WR-CALNAME;VALUE=TEXT:
VERSION:2.0
METHOD:PUBLISH
BEGIN:VTIMEZONE
TZID:GMT
BEGIN:STANDARD
DTSTART:19390101T000000
TZOFFSETFROM:+0000
TZOFFSETTO:+0000
TZNAME:GMT
END:STANDARD
END:VTIMEZONE
BEGIN:VEVENT
DTSTART:20140723T093000Z
DTEND:20140723T110000Z
LOCATION:四谷　県人クラブ内　１F会議室
TRANSP:OPAQUE
SEQUENCE:2
UID:pical060-92a19a1f1a45d2175ce0ec3df05c085e
DTSTAMP:20140522T104806Z
CATEGORIES:
DESCRIPTION:総会案内状等送付物一式配布 (各 回生分は幹事宛宅送)\n総会企画の進捗状況説明\n・アトラクション内容説明、招待者の確認等\n第42回総会の実施方多十、日程、会場の審議\nその他 (抽選会用賞品の提供依頼等)
SUMMARY:第４回幹事会（懇親会予定）
PRIORITY:0
CLASS:PUBLIC
END:VEVENT
END:VCALENDAR
