BEGIN:VCALENDAR
CALSCALE:GREGORIAN
X-WR-TIMEZONE;VALUE=TEXT:GMT
PRODID:PEAK Corporation - piCal -
X-WR-CALNAME;VALUE=TEXT:
VERSION:2.0
METHOD:PUBLISH
BEGIN:VTIMEZONE
TZID:GMT
BEGIN:STANDARD
DTSTART:19390101T000000
TZOFFSETFROM:+0000
TZOFFSETTO:+0000
TZNAME:GMT
END:STANDARD
END:VTIMEZONE
BEGIN:VEVENT
DTSTART:20140614T030000Z
DTEND:20140614T060000Z
LOCATION:オールドマンズアンシオドメOLD MAN’S UN 汐留
TRANSP:OPAQUE
SEQUENCE:0
UID:pical060-932bcc11d1917d988a895b83689042e9
DTSTAMP:20140522T103349Z
CATEGORIES:
DESCRIPTION:ピュアエイジクラブ２０１４（若手会）開催★\n\n６６回生の皆さん！新卒生歓迎会を新橋で開催しますよ！！\n\n\n日時　６月１４日〈土曜日〉１２時半〈１２時受付〉?１５時\n場所　オールドマンズアンシオドメOLD MAN’S UN 汐留\<a href="nhttp://un-club.com/" rel="external">nhttp://un-club.com/</a> 　\n　会費　１０００円　〈６６回生は無料です！〉\n　　　　　　　　　　　※学生さんは基本無料ですよーー！\n\n\n若手のみなさん！気軽に集まれー！ \n\n今年の新卒生６６回生の在京同窓会歓迎会を開催しまーす！\n\n６６回生のみなさん！東京生活は少し落ち着いてきたでしょうか？\n同期に会えるチャンスですよ！！！\n\nご馳走をたくさん用意しています！\n\n今年も抽選会あります！！！（商品券、図書券、お米券などなど、、）\n\n毎年、この時期に３０名から５０名くらいの小規模でカジュアルに\n開催している在京同窓会の公式行事で、若手発掘の会です。\n\nまた「若手」とは今年は、、当番幹事４３回生以降６６回生までの方ならどなたでも、、ＯＫ！\n\nもちろん、会のサポートホスト役で２６回生から４２回生の方々の参加もお待ちしていまーす！\n\nぜひ、同期の方にお声かけいただき、一緒にどうぞ！\nお待ちしております。各回生の幹事さんに連絡してくださってもＯＫ！\n何かありましたら、上瀧（かみたき）まで気軽に連絡くださいね \n\n\n★お手数ですが、準備の都合上、出欠を６月７日（土曜日）までお知らせいただけると幸いです\n\n★お問い合わせ\nピュアエイジクラブ会長　上瀧緑（かみたきみどり）\n携帯　０９０１６００９３６９\n携帯メール　<a href="mailto:midomidomiddy-k@docomo.ne.jp">midomidomiddy-k@docomo.ne.jp</a>\nＰＣメール　<a href="mailto:kamitaki@jcom.home.ne.jp">kamitaki@jcom.home.ne.jp</a>\n尚、パソコンからのメールはパソコンメール宛てにお願いします。\n
SUMMARY:ピュアエイジクラブ２０１４（若手会）開催
PRIORITY:0
CLASS:PUBLIC
END:VEVENT
END:VCALENDAR
