BEGIN:VCALENDAR
CALSCALE:GREGORIAN
X-WR-TIMEZONE;VALUE=TEXT:GMT
PRODID:PEAK Corporation - piCal -
X-WR-CALNAME;VALUE=TEXT:
VERSION:2.0
METHOD:PUBLISH
BEGIN:VTIMEZONE
TZID:GMT
BEGIN:STANDARD
DTSTART:19390101T000000
TZOFFSETFROM:+0000
TZOFFSETTO:+0000
TZNAME:GMT
END:STANDARD
END:VTIMEZONE
BEGIN:VEVENT
DTSTART:20140528T093000Z
DTEND:20140528T110000Z
LOCATION:四谷　県人クラブ内　１F会議室
TRANSP:OPAQUE
SEQUENCE:0
UID:pical060-845599e487aa9944e1929b99240e470c
DTSTAMP:20140522T103101Z
CATEGORIES:
DESCRIPTION:1総会企画案説明\n総会案内状 (たたき台)&amp;式次第素案提示\n・招待者の確認\n2名 簿修正の回収状況確認\n3コ ミュニティ依頼原稿の回収\n4その他 (ピ ュアエイジクラブの紹介等)
SUMMARY:第３回幹事会
PRIORITY:0
CLASS:PUBLIC
END:VEVENT
END:VCALENDAR
