BEGIN:VCALENDAR
CALSCALE:GREGORIAN
X-WR-TIMEZONE;VALUE=TEXT:GMT
PRODID:PEAK Corporation - piCal -
X-WR-CALNAME;VALUE=TEXT:
VERSION:2.0
METHOD:PUBLISH
BEGIN:VTIMEZONE
TZID:GMT
BEGIN:STANDARD
DTSTART:19390101T000000
TZOFFSETFROM:+0000
TZOFFSETTO:+0000
TZNAME:GMT
END:STANDARD
END:VTIMEZONE
BEGIN:VEVENT
DTSTART:20140531T070000Z
DTEND:20140531T090000Z
LOCATION:名古屋国際ホテル 2階 紅梅の間　TEL 052-961-3111
TRANSP:OPAQUE
SEQUENCE:0
UID:pical060-f4c483fe5eb7e021569ff7b5a35d23f8
DTSTAMP:20140403T112302Z
CATEGORIES:
DESCRIPTION:1.日 時 平成26年 5月31日(土)15時30分受付開始\n懇親会 16時? 18時\n2.会 場 名古屋国際ホテル 2階 紅梅の間\n名古屋市中区錦3-23-3\nTEL 052-961-3111
SUMMARY:第四回東海長崎西高同窓会
PRIORITY:0
CLASS:PUBLIC
END:VEVENT
END:VCALENDAR
