BEGIN:VCALENDAR
CALSCALE:GREGORIAN
X-WR-TIMEZONE;VALUE=TEXT:GMT
PRODID:PEAK Corporation - piCal -
X-WR-CALNAME;VALUE=TEXT:
VERSION:2.0
METHOD:PUBLISH
BEGIN:VTIMEZONE
TZID:GMT
BEGIN:STANDARD
DTSTART:19390101T000000
TZOFFSETFROM:+0000
TZOFFSETTO:+0000
TZNAME:GMT
END:STANDARD
END:VTIMEZONE
BEGIN:VEVENT
DTSTART:20140402T093000Z
DTEND:20140402T120000Z
LOCATION:
TRANSP:OPAQUE
SEQUENCE:0
UID:pical060-ddde27f5b7d81c43723723f5cb31492b
DTSTAMP:20140325T012752Z
CATEGORIES:
DESCRIPTION:◆4月２日(水)　18:30?第２回幹事会　(懇親予定)\n　　　　　1.総会企画案の説明\n　　　　　2.コミュニテイ原稿依頼\n　　　　　3.その他(幹事名簿配布、ハク揚げ大会紹介等)\n\n4月29日(火)　長崎ハタ揚げ大会(六郷土手)\n
SUMMARY:第２回幹事会（懇親会あり）
PRIORITY:0
CLASS:PUBLIC
END:VEVENT
END:VCALENDAR
