BEGIN:VCALENDAR
CALSCALE:GREGORIAN
X-WR-TIMEZONE;VALUE=TEXT:GMT
PRODID:PEAK Corporation - piCal -
X-WR-CALNAME;VALUE=TEXT:
VERSION:2.0
METHOD:PUBLISH
BEGIN:VTIMEZONE
TZID:GMT
BEGIN:STANDARD
DTSTART:19390101T000000
TZOFFSETFROM:+0000
TZOFFSETTO:+0000
TZNAME:GMT
END:STANDARD
END:VTIMEZONE
BEGIN:VEVENT
DTSTART;VALUE=DATE:20130525
DTEND;VALUE=DATE:20130526
LOCATION:
TRANSP:OPAQUE
SEQUENCE:0
UID:pical060-631f412d025e6b793cce587f3406203f
DTSTAMP:20130520T010243Z
CATEGORIES:
DESCRIPTION:
SUMMARY:長商同窓会関東支部　総会
PRIORITY:0
CLASS:PUBLIC
END:VEVENT
END:VCALENDAR
