BEGIN:VCALENDAR
CALSCALE:GREGORIAN
X-WR-TIMEZONE;VALUE=TEXT:GMT
PRODID:PEAK Corporation - piCal -
X-WR-CALNAME;VALUE=TEXT:
VERSION:2.0
METHOD:PUBLISH
BEGIN:VTIMEZONE
TZID:GMT
BEGIN:STANDARD
DTSTART:19390101T000000
TZOFFSETFROM:+0000
TZOFFSETTO:+0000
TZNAME:GMT
END:STANDARD
END:VTIMEZONE
BEGIN:VEVENT
DTSTART:20130629T063000Z
DTEND:20130629T080000Z
LOCATION:ベストウェスタンプレミアホテル長崎　３Ｆ
TRANSP:OPAQUE
SEQUENCE:1
UID:pical060-0112ac9374c4cc610362a59fb3e28357
DTSTAMP:20130520T010003Z
CATEGORIES:
DESCRIPTION:１６：００?　懇親会\n\nベストウェスタンプレミアホテル長崎　３Ｆ\n長崎市宝町２&#8722;２６\n電話　095-821-1111\n
SUMMARY:長崎西同窓会　総会・懇親会
PRIORITY:0
CLASS:PUBLIC
END:VEVENT
END:VCALENDAR
