BEGIN:VCALENDAR
CALSCALE:GREGORIAN
X-WR-TIMEZONE;VALUE=TEXT:GMT
PRODID:PEAK Corporation - piCal -
X-WR-CALNAME;VALUE=TEXT:
VERSION:2.0
METHOD:PUBLISH
BEGIN:VTIMEZONE
TZID:GMT
BEGIN:STANDARD
DTSTART:19390101T000000
TZOFFSETFROM:+0000
TZOFFSETTO:+0000
TZNAME:GMT
END:STANDARD
END:VTIMEZONE
BEGIN:VEVENT
DTSTART:20130601T060000Z
DTEND:20130601T080000Z
LOCATION:OLD MAN’S UN 汐留 （オールドマンズ・アン・シオドメ）
TRANSP:OPAQUE
SEQUENCE:0
UID:pical060-f443d8ff62090dd23ad81b1ba5283db8
DTSTAMP:20130520T004821Z
CATEGORIES:
DESCRIPTION:31澤村さん、34宮崎さん、37磯さん、37森林さん、38山崎さん、\n40池末さん、41開田さん\ncc:27友重さん、29森さん\n在京同窓会執行部の堀内です。\n\n26回の上瀧さんよりピュアエイジクラブ開催通知が届きました。\nピュアエイジクラブとは在京同窓会が開催している新卒会員の歓迎会を\n兼ねた若手向け懇親会です。\n\n今回は6/1(土)15時からで、場所は昨年と同様に\nOLD MAN’S UN 汐留 （オールドマンズ・アン・シオドメ）で開催されます。\n会費は社会人1,000円ですが、当日の抽選会用に学生に喜ばれそうな賞品を\n持参願います。\n\nなお、出欠の取り纏めを行いますので、5/24(金)迄に当方宛に出欠と\n当日賞品を持参して頂ける方はその賞品について連絡願います。
SUMMARY:ピュアエイジクラブ開催
PRIORITY:0
CLASS:PUBLIC
END:VEVENT
END:VCALENDAR
