BEGIN:VCALENDAR
CALSCALE:GREGORIAN
X-WR-TIMEZONE;VALUE=TEXT:GMT
PRODID:PEAK Corporation - piCal -
X-WR-CALNAME;VALUE=TEXT:
VERSION:2.0
METHOD:PUBLISH
BEGIN:VTIMEZONE
TZID:GMT
BEGIN:STANDARD
DTSTART:19390101T000000
TZOFFSETFROM:+0000
TZOFFSETTO:+0000
TZNAME:GMT
END:STANDARD
END:VTIMEZONE
BEGIN:VEVENT
DTSTART:20130429T003000Z
DTEND:20130429T053000Z
LOCATION:京急六郷土手「多摩川緑地区民広場」
TRANSP:OPAQUE
SEQUENCE:0
UID:pical060-b87eab1e8d600cade626bb701df2462e
DTSTAMP:20130404T210724Z
CATEGORIES:
DESCRIPTION:
SUMMARY:長崎ハタ揚げ大会
PRIORITY:0
CLASS:PUBLIC
END:VEVENT
END:VCALENDAR
