BEGIN:VCALENDAR
CALSCALE:GREGORIAN
X-WR-TIMEZONE;VALUE=TEXT:GMT
PRODID:PEAK Corporation - piCal -
X-WR-CALNAME;VALUE=TEXT:
VERSION:2.0
METHOD:PUBLISH
BEGIN:VTIMEZONE
TZID:GMT
BEGIN:STANDARD
DTSTART:19390101T000000
TZOFFSETFROM:+0000
TZOFFSETTO:+0000
TZNAME:GMT
END:STANDARD
END:VTIMEZONE
BEGIN:VEVENT
DTSTART:20130629T050000Z
DTEND:20130629T090000Z
LOCATION:東京椿山荘03-3943-1111
TRANSP:OPAQUE
SEQUENCE:0
UID:pical060-7c57f7e7147854dc84b38d70d69a6a1d
DTSTAMP:20130321T113435Z
CATEGORIES:
DESCRIPTION:佐世保南校東京同窓会　会長　浦松敏和\n14:00 受付開始　５Fロビー\n14:30?14:45 総会　５Fカトレアの間\n14:50?15:50 講演会　５Fカトレアの間\n16:00?18:15 16:00?18:15　５Fオリオンの間\n　\n
SUMMARY:東京柏葉会第23回総会・懇親会
PRIORITY:0
CLASS:PUBLIC
END:VEVENT
END:VCALENDAR
