BEGIN:VCALENDAR
CALSCALE:GREGORIAN
X-WR-TIMEZONE;VALUE=TEXT:GMT
PRODID:PEAK Corporation - piCal -
X-WR-CALNAME;VALUE=TEXT:
VERSION:2.0
METHOD:PUBLISH
BEGIN:VTIMEZONE
TZID:GMT
BEGIN:STANDARD
DTSTART:19390101T000000
TZOFFSETFROM:+0000
TZOFFSETTO:+0000
TZNAME:GMT
END:STANDARD
END:VTIMEZONE
BEGIN:VEVENT
DTSTART:20130803T000000Z
DTEND:20130803T080000Z
LOCATION:四ツ谷センタービル１F
TRANSP:OPAQUE
SEQUENCE:0
UID:pical060-559b116b9a334b3035be28cd8bfffb30
DTSTAMP:20130706T174849Z
CATEGORIES:
DESCRIPTION:
SUMMARY:総会案内配送仕分け作業
PRIORITY:0
CLASS:PUBLIC
END:VEVENT
END:VCALENDAR
