BEGIN:VCALENDAR
CALSCALE:GREGORIAN
X-WR-TIMEZONE;VALUE=TEXT:GMT
PRODID:PEAK Corporation - piCal -
X-WR-CALNAME;VALUE=TEXT:
VERSION:2.0
METHOD:PUBLISH
BEGIN:VTIMEZONE
TZID:GMT
BEGIN:STANDARD
DTSTART:19390101T000000
TZOFFSETFROM:+0000
TZOFFSETTO:+0000
TZNAME:GMT
END:STANDARD
END:VTIMEZONE
BEGIN:VEVENT
DTSTART:20131004T100000Z
DTEND:20131004T120000Z
LOCATION:四ツ谷センタービル４F県人クラブ
TRANSP:OPAQUE
SEQUENCE:0
UID:pical060-dff1b56411c8637cfb8b15c8fc0ffe70
DTSTAMP:20130306T144234Z
CATEGORIES:
DESCRIPTION:
SUMMARY:総会準備：シナリオ打合せ
PRIORITY:0
CLASS:PUBLIC
END:VEVENT
END:VCALENDAR
