BEGIN:VCALENDAR
CALSCALE:GREGORIAN
X-WR-TIMEZONE;VALUE=TEXT:GMT
PRODID:PEAK Corporation - piCal -
X-WR-CALNAME;VALUE=TEXT:
VERSION:2.0
METHOD:PUBLISH
BEGIN:VTIMEZONE
TZID:GMT
BEGIN:STANDARD
DTSTART:19390101T000000
TZOFFSETFROM:+0000
TZOFFSETTO:+0000
TZNAME:GMT
END:STANDARD
END:VTIMEZONE
BEGIN:VEVENT
DTSTART:20131012T020000Z
DTEND:20131012T070000Z
LOCATION:時間・場所未定
TRANSP:OPAQUE
SEQUENCE:0
UID:pical060-5aa608a93c7d2d05898fb0284bb450c5
DTSTAMP:20130306T144146Z
CATEGORIES:
DESCRIPTION:
SUMMARY:腕章＆横断幕準備、商品確認、総会シナリオ最終確認
PRIORITY:0
CLASS:PUBLIC
END:VEVENT
END:VCALENDAR
