BEGIN:VCALENDAR
CALSCALE:GREGORIAN
X-WR-TIMEZONE;VALUE=TEXT:GMT
PRODID:PEAK Corporation - piCal -
X-WR-CALNAME;VALUE=TEXT:
VERSION:2.0
METHOD:PUBLISH
BEGIN:VTIMEZONE
TZID:GMT
BEGIN:STANDARD
DTSTART:19390101T000000
TZOFFSETFROM:+0000
TZOFFSETTO:+0000
TZNAME:GMT
END:STANDARD
END:VTIMEZONE
BEGIN:VEVENT
DTSTART:20130605T093000Z
DTEND:20130605T120000Z
LOCATION:四ツ谷
TRANSP:OPAQUE
SEQUENCE:0
UID:pical060-726815929a34ee9bb6b3af47f4e79be2
DTSTAMP:20130306T143420Z
CATEGORIES:
DESCRIPTION:
SUMMARY:第３回　幹事会
PRIORITY:0
CLASS:PUBLIC
END:VEVENT
END:VCALENDAR
