BEGIN:VCALENDAR
CALSCALE:GREGORIAN
X-WR-TIMEZONE;VALUE=TEXT:GMT
PRODID:PEAK Corporation - piCal -
X-WR-CALNAME;VALUE=TEXT:
VERSION:2.0
METHOD:PUBLISH
BEGIN:VTIMEZONE
TZID:GMT
BEGIN:STANDARD
DTSTART:19390101T000000
TZOFFSETFROM:+0000
TZOFFSETTO:+0000
TZNAME:GMT
END:STANDARD
END:VTIMEZONE
BEGIN:VEVENT
DTSTART:20130403T093000Z
DTEND:20130403T120000Z
LOCATION:四ツ谷
TRANSP:OPAQUE
SEQUENCE:0
UID:pical060-34b61eb18c0885b21a2215625f911b1c
DTSTAMP:20130306T143312Z
CATEGORIES:
DESCRIPTION:
SUMMARY:第２回　幹事会
PRIORITY:0
CLASS:PUBLIC
END:VEVENT
END:VCALENDAR
