BEGIN:VCALENDAR
CALSCALE:GREGORIAN
X-WR-TIMEZONE;VALUE=TEXT:GMT
PRODID:PEAK Corporation - piCal -
X-WR-CALNAME;VALUE=TEXT:
VERSION:2.0
METHOD:PUBLISH
BEGIN:VTIMEZONE
TZID:GMT
BEGIN:STANDARD
DTSTART:19390101T000000
TZOFFSETFROM:+0000
TZOFFSETTO:+0000
TZNAME:GMT
END:STANDARD
END:VTIMEZONE
BEGIN:VEVENT
DTSTART:20130220T093000Z
DTEND:20130220T113000Z
LOCATION:四ツ谷センタービル４F県人クラブ
TRANSP:OPAQUE
SEQUENCE:0
UID:pical060-d8c4774b7a86c15a38b1ba3511db59b1
DTSTAMP:20130306T142757Z
CATEGORIES:
DESCRIPTION:出席者：\n堀内会長、友重副会長、\n常任幹事：坂本、宮崎、山崎、\n40回生幹事　池末、森
SUMMARY:第２回　常任幹事会
PRIORITY:0
CLASS:PUBLIC
END:VEVENT
END:VCALENDAR
