BEGIN:VCALENDAR
CALSCALE:GREGORIAN
X-WR-TIMEZONE;VALUE=TEXT:GMT
PRODID:PEAK Corporation - piCal -
X-WR-CALNAME;VALUE=TEXT:
VERSION:2.0
METHOD:PUBLISH
BEGIN:VTIMEZONE
TZID:GMT
BEGIN:STANDARD
DTSTART:19390101T000000
TZOFFSETFROM:+0000
TZOFFSETTO:+0000
TZNAME:GMT
END:STANDARD
END:VTIMEZONE
BEGIN:VEVENT
DTSTART:20130121T093000Z
DTEND:20130121T130000Z
LOCATION:四ツ谷センタービル県人クラブ内会議室or１Fロビー
TRANSP:OPAQUE
SEQUENCE:0
UID:pical060-3b5db395fd2cffbf55f9b0cd51d8cb69
DTSTAMP:20130116T165737Z
CATEGORIES:
DESCRIPTION:堀内会長のかわりに森代理出席
SUMMARY:ビードロ会常任理事会
PRIORITY:0
CLASS:PUBLIC
END:VEVENT
END:VCALENDAR
