BEGIN:VCALENDAR
CALSCALE:GREGORIAN
X-WR-TIMEZONE;VALUE=TEXT:GMT
PRODID:PEAK Corporation - piCal -
X-WR-CALNAME;VALUE=TEXT:
VERSION:2.0
METHOD:PUBLISH
BEGIN:VTIMEZONE
TZID:GMT
BEGIN:STANDARD
DTSTART:19390101T000000
TZOFFSETFROM:+0000
TZOFFSETTO:+0000
TZNAME:GMT
END:STANDARD
END:VTIMEZONE
BEGIN:VEVENT
DTSTART:20130130T093000Z
DTEND:20130130T120000Z
LOCATION:ホテルオークラ　コンチネンタルルーム（本館１Ｆ）
TRANSP:OPAQUE
SEQUENCE:0
UID:pical060-104e9589a960d85b4f90437299d30598
DTSTAMP:20121218T153011Z
CATEGORIES:
DESCRIPTION:会費１０，０００円\n出欠の返事Ｈ２５／１／１８まで県人クラブへ
SUMMARY:県人クラブ　新年賀詞交歓会
PRIORITY:0
CLASS:PUBLIC
END:VEVENT
END:VCALENDAR
