BEGIN:VCALENDAR
CALSCALE:GREGORIAN
X-WR-TIMEZONE;VALUE=TEXT:GMT
PRODID:PEAK Corporation - piCal -
X-WR-CALNAME;VALUE=TEXT:
VERSION:2.0
METHOD:PUBLISH
BEGIN:VTIMEZONE
TZID:GMT
BEGIN:STANDARD
DTSTART:19390101T000000
TZOFFSETFROM:+0000
TZOFFSETTO:+0000
TZNAME:GMT
END:STANDARD
END:VTIMEZONE
BEGIN:VEVENT
DTSTART:20130928T060000Z
DTEND:20130928T090000Z
LOCATION:未確認
TRANSP:OPAQUE
SEQUENCE:0
UID:pical060-66f92db0d9e419637bc9ab77c15d9a24
DTSTAMP:20121212T172308Z
CATEGORIES:
DESCRIPTION:未確認
SUMMARY:関西地区同窓会
PRIORITY:0
CLASS:PUBLIC
END:VEVENT
END:VCALENDAR
