BEGIN:VCALENDAR
CALSCALE:GREGORIAN
X-WR-TIMEZONE;VALUE=TEXT:GMT
PRODID:PEAK Corporation - piCal -
X-WR-CALNAME;VALUE=TEXT:
VERSION:2.0
METHOD:PUBLISH
BEGIN:VTIMEZONE
TZID:GMT
BEGIN:STANDARD
DTSTART:19390101T000000
TZOFFSETFROM:+0000
TZOFFSETTO:+0000
TZNAME:GMT
END:STANDARD
END:VTIMEZONE
BEGIN:VEVENT
DTSTART:20131026T060000Z
DTEND:20131026T080000Z
LOCATION:会場：ホテルイースト２１東京
TRANSP:OPAQUE
SEQUENCE:0
UID:pical060-e728e637aa9c967c2cc6ad6d7916d2dc
DTSTAMP:20121115T203101Z
CATEGORIES:
DESCRIPTION:２０１２／１０／２６（土）　在京同窓会総会＆懇親会を開催予定\n会場：ホテルイースト２１東京　\n〒135-0016　東京都江東区東陽6-3-3\nURL:<a href="http://www.hotel-east21.co.jp/" rel="external">http://www.hotel-east21.co.jp/</a>
SUMMARY:第４０回長崎西高在京同窓会総会
PRIORITY:0
CLASS:PUBLIC
END:VEVENT
END:VCALENDAR
