BEGIN:VCALENDAR
CALSCALE:GREGORIAN
X-WR-TIMEZONE;VALUE=TEXT:GMT
PRODID:PEAK Corporation - piCal -
X-WR-CALNAME;VALUE=TEXT:
VERSION:2.0
METHOD:PUBLISH
BEGIN:VTIMEZONE
TZID:GMT
BEGIN:STANDARD
DTSTART:19390101T000000
TZOFFSETFROM:+0000
TZOFFSETTO:+0000
TZNAME:GMT
END:STANDARD
END:VTIMEZONE
BEGIN:VEVENT
DTSTART:20121211T093000Z
DTEND:20121211T113000Z
LOCATION:東京プリンスホテル　2階「マグノリアホール」
TRANSP:OPAQUE
SEQUENCE:0
UID:pical060-86bccf996749dd31d11d4884f5b348c7
DTSTAMP:20121108T151757Z
CATEGORIES:
DESCRIPTION:平成２４年１１月吉日\n\n県人会の皆様へ\n　　　　　　　　　                            長崎県人会 会長 　相 川　賢 太 郎\n                                       　　  （三菱重工業?相談役）\n　　　　　　　　　 　　　　　　     長崎ビードロ会長・在京同窓会長\n\n長崎県人会総会・懇親会のご案内\n\n拝啓　会員の皆様には、益々ご健勝のこととお喜び申し上げます。\n  さて、来る１２月１１日（火）に平成２４年度長崎県人会総会並びに懇親会を、下記のとおり開催いたします。\n　今年は、長崎ビードロ会及び西海市会の皆さんに進行幹事を務めていただき、ふるさとの絆を深めたいと存じます。\n　余興の部では、東龍倶楽部による「龍踊り」の演舞を行います。\n　また、１７時３０分から長崎県産品の販売コーナーを開設いたしますので、ご家族・友人・知人をお誘い合わせのうえ、お早めにご来場いただければ幸甚に存じます。\n敬具\n記\n日　時：平成２４年１２月１１日(火)１８時３０分開会(１７時３０分開場)\n場　所：東京プリンスホテル　2階「マグノリアホール」\n          東京都港区芝公園３ー３ー１　電話０３ー３４３２ー１１１１\n会　費：男性8,000円、女性7,000円、学生3,000円（当日持参）　\n催　物：?総会　?龍踊り　?懇親会・福引会　\n   　    会長賞、知事賞をはじめ地元の物産も多数用意しております。\n　　　\nお問い合わせ先\n　　長崎県東京事務所（県人会事務局）　馬場久司\nTEL 03-5212-9025 / FAX 03-5215-5131\n\nメールにて参加申し込みされる場合は、\n１１月２２日（木）までに、件名を【県人会総会参加】とし、下記アドレスに、整理のため出身地、同窓会名、氏名、住所、電話番号を必ずご記入の上、送信ください。\n&lt;<a href="mailto:baba-hisashi@pref.nagasaki.lg.jp&gt">baba-hisashi@pref.nagasaki.lg.jp&gt</a>;\n\n
SUMMARY:長崎県人会総会・懇親会
PRIORITY:0
CLASS:PUBLIC
END:VEVENT
END:VCALENDAR
